BEGIN:VCALENDAR
VERSION:2.0
PRODID:-//BSG Kali Werra Tiefenort e.V. - ECPv6.15.20//NONSGML v1.0//EN
CALSCALE:GREGORIAN
METHOD:PUBLISH
X-ORIGINAL-URL:https://kali-werra.de
X-WR-CALDESC:Veranstaltungen für BSG Kali Werra Tiefenort e.V.
REFRESH-INTERVAL;VALUE=DURATION:PT1H
X-Robots-Tag:noindex
X-PUBLISHED-TTL:PT1H
BEGIN:VTIMEZONE
TZID:Europe/Berlin
BEGIN:DAYLIGHT
TZOFFSETFROM:+0100
TZOFFSETTO:+0200
TZNAME:CEST
DTSTART:20230326T010000
END:DAYLIGHT
BEGIN:STANDARD
TZOFFSETFROM:+0200
TZOFFSETTO:+0100
TZNAME:CET
DTSTART:20231029T010000
END:STANDARD
BEGIN:DAYLIGHT
TZOFFSETFROM:+0100
TZOFFSETTO:+0200
TZNAME:CEST
DTSTART:20240331T010000
END:DAYLIGHT
BEGIN:STANDARD
TZOFFSETFROM:+0200
TZOFFSETTO:+0100
TZNAME:CET
DTSTART:20241027T010000
END:STANDARD
BEGIN:DAYLIGHT
TZOFFSETFROM:+0100
TZOFFSETTO:+0200
TZNAME:CEST
DTSTART:20250330T010000
END:DAYLIGHT
BEGIN:STANDARD
TZOFFSETFROM:+0200
TZOFFSETTO:+0100
TZNAME:CET
DTSTART:20251026T010000
END:STANDARD
END:VTIMEZONE
BEGIN:VEVENT
DTSTART;TZID=Europe/Berlin:20240601T210000
DTEND;TZID=Europe/Berlin:20240601T230000
DTSTAMP:20260425T203036
CREATED:20240530T073313Z
LAST-MODIFIED:20240530T073313Z
UID:4843-1717275600-1717282800@kali-werra.de
SUMMARY:Public Viewing zum Champions League Finale im Kaffeetälchen
DESCRIPTION:Public Viewing zum Champions League Finale im Kaffeetälchen \nAm 1. Juni 2024\, Anstoß: 21 Uhr
URL:https://kali-werra.de/event/public-viewing-zum-champions-league-finale-im-kaffeetaelchen/
END:VEVENT
BEGIN:VEVENT
DTSTART;TZID=Europe/Berlin:20240614T210000
DTEND;TZID=Europe/Berlin:20240614T230000
DTSTAMP:20260425T203036
CREATED:20240530T073752Z
LAST-MODIFIED:20240530T073752Z
UID:4845-1718398800-1718406000@kali-werra.de
SUMMARY:Public Viewing zum Start der Europameisterschaft im Kaffeetälchen
DESCRIPTION:Public Viewing zum Start der Europameisterschaft im Kaffeetälchen. \nAm Freitag\, 14. Juni 2024\, Anstoß: 21 Uhr.
URL:https://kali-werra.de/event/public-viewing-zum-start-der-europameisterschaft-im-kaffeetaelchen/
LOCATION:Waldstadion Kaffeetälchen
END:VEVENT
END:VCALENDAR